BEGIN:VCALENDAR
VERSION:2.0
PRODID:-//District 4-A2 Lions - ECPv6.15.20//NONSGML v1.0//EN
CALSCALE:GREGORIAN
METHOD:PUBLISH
X-WR-CALNAME:District 4-A2 Lions
X-ORIGINAL-URL:https://4a2lions.org
X-WR-CALDESC:Events for District 4-A2 Lions
REFRESH-INTERVAL;VALUE=DURATION:PT1H
X-Robots-Tag:noindex
X-PUBLISHED-TTL:PT1H
BEGIN:VTIMEZONE
TZID:America/Los_Angeles
BEGIN:DAYLIGHT
TZOFFSETFROM:-0800
TZOFFSETTO:-0700
TZNAME:PDT
DTSTART:20250309T100000
END:DAYLIGHT
BEGIN:STANDARD
TZOFFSETFROM:-0700
TZOFFSETTO:-0800
TZNAME:PST
DTSTART:20251102T090000
END:STANDARD
BEGIN:DAYLIGHT
TZOFFSETFROM:-0800
TZOFFSETTO:-0700
TZNAME:PDT
DTSTART:20260308T100000
END:DAYLIGHT
BEGIN:STANDARD
TZOFFSETFROM:-0700
TZOFFSETTO:-0800
TZNAME:PST
DTSTART:20261101T090000
END:STANDARD
BEGIN:DAYLIGHT
TZOFFSETFROM:-0800
TZOFFSETTO:-0700
TZNAME:PDT
DTSTART:20270314T100000
END:DAYLIGHT
BEGIN:STANDARD
TZOFFSETFROM:-0700
TZOFFSETTO:-0800
TZNAME:PST
DTSTART:20271107T090000
END:STANDARD
END:VTIMEZONE
BEGIN:VEVENT
DTSTART;TZID=America/Los_Angeles:20260117T173000
DTEND;TZID=America/Los_Angeles:20260117T210000
DTSTAMP:20260423T113442
CREATED:20251005T212502Z
LAST-MODIFIED:20251019T021623Z
UID:8091-1768671000-1768683600@4a2lions.org
SUMMARY:1/17/26 - Dining in the Dark 2026
DESCRIPTION:Join District 4-A2 in our annual LCIF Fundraiser with special guest\, Past International President Dr. Patti Hill. \nIndividual tickets: $75 \n2026 Blind Dinner Letter 4 Clubs v6 \nClub Table: $1000 for 8 seats. ($500 of the fee will be a donation in the name of the club) \nTickets Here
URL:https://4a2lions.org/event/1-17-26-dining-in-the-dark-2026/
LOCATION:Classic Catering At 625\, 625 4th St.\, Clovis\, CA\, 93612\, United States
CATEGORIES:Featured,Fundraiser
END:VEVENT
END:VCALENDAR