BEGIN:VCALENDAR
VERSION:2.0
PRODID:-//District 4-A2 Lions - ECPv6.15.20//NONSGML v1.0//EN
CALSCALE:GREGORIAN
METHOD:PUBLISH
X-ORIGINAL-URL:https://4a2lions.org
X-WR-CALDESC:Events for District 4-A2 Lions
REFRESH-INTERVAL;VALUE=DURATION:PT1H
X-Robots-Tag:noindex
X-PUBLISHED-TTL:PT1H
BEGIN:VTIMEZONE
TZID:America/Los_Angeles
BEGIN:DAYLIGHT
TZOFFSETFROM:-0800
TZOFFSETTO:-0700
TZNAME:PDT
DTSTART:20250309T100000
END:DAYLIGHT
BEGIN:STANDARD
TZOFFSETFROM:-0700
TZOFFSETTO:-0800
TZNAME:PST
DTSTART:20251102T090000
END:STANDARD
BEGIN:DAYLIGHT
TZOFFSETFROM:-0800
TZOFFSETTO:-0700
TZNAME:PDT
DTSTART:20260308T100000
END:DAYLIGHT
BEGIN:STANDARD
TZOFFSETFROM:-0700
TZOFFSETTO:-0800
TZNAME:PST
DTSTART:20261101T090000
END:STANDARD
BEGIN:DAYLIGHT
TZOFFSETFROM:-0800
TZOFFSETTO:-0700
TZNAME:PDT
DTSTART:20270314T100000
END:DAYLIGHT
BEGIN:STANDARD
TZOFFSETFROM:-0700
TZOFFSETTO:-0800
TZNAME:PST
DTSTART:20271107T090000
END:STANDARD
END:VTIMEZONE
BEGIN:VEVENT
DTSTART;TZID=America/Los_Angeles:20260627T083000
DTEND;TZID=America/Los_Angeles:20260627T140000
DTSTAMP:20260423T114036
CREATED:20260418T042430Z
LAST-MODIFIED:20260420T000418Z
UID:8554-1782549000-1782568800@4a2lions.org
SUMMARY:6/27 - District 4-A2 Lions Training Day
DESCRIPTION:Register Here:\n$10 Donation at the door to cover meals and refreshments
URL:https://4a2lions.org/event/6-27-district-4-a2-lions-training-day/
LOCATION:Visalia Unified School District\, 5000 W Cypress Avenue\, Visalia\, CA\, 93277
CATEGORIES:Featured
END:VEVENT
END:VCALENDAR