BEGIN:VCALENDAR
VERSION:2.0
PRODID:-//District 4-A2 Lions - ECPv6.15.20//NONSGML v1.0//EN
CALSCALE:GREGORIAN
METHOD:PUBLISH
X-WR-CALNAME:District 4-A2 Lions
X-ORIGINAL-URL:https://4a2lions.org
X-WR-CALDESC:Events for District 4-A2 Lions
REFRESH-INTERVAL;VALUE=DURATION:PT1H
X-Robots-Tag:noindex
X-PUBLISHED-TTL:PT1H
BEGIN:VTIMEZONE
TZID:America/Los_Angeles
BEGIN:DAYLIGHT
TZOFFSETFROM:-0800
TZOFFSETTO:-0700
TZNAME:PDT
DTSTART:20240310T100000
END:DAYLIGHT
BEGIN:STANDARD
TZOFFSETFROM:-0700
TZOFFSETTO:-0800
TZNAME:PST
DTSTART:20241103T090000
END:STANDARD
BEGIN:DAYLIGHT
TZOFFSETFROM:-0800
TZOFFSETTO:-0700
TZNAME:PDT
DTSTART:20250309T100000
END:DAYLIGHT
BEGIN:STANDARD
TZOFFSETFROM:-0700
TZOFFSETTO:-0800
TZNAME:PST
DTSTART:20251102T090000
END:STANDARD
BEGIN:DAYLIGHT
TZOFFSETFROM:-0800
TZOFFSETTO:-0700
TZNAME:PDT
DTSTART:20260308T100000
END:DAYLIGHT
BEGIN:STANDARD
TZOFFSETFROM:-0700
TZOFFSETTO:-0800
TZNAME:PST
DTSTART:20261101T090000
END:STANDARD
BEGIN:DAYLIGHT
TZOFFSETFROM:-0800
TZOFFSETTO:-0700
TZNAME:PDT
DTSTART:20270314T100000
END:DAYLIGHT
BEGIN:STANDARD
TZOFFSETFROM:-0700
TZOFFSETTO:-0800
TZNAME:PST
DTSTART:20271107T090000
END:STANDARD
END:VTIMEZONE
BEGIN:VEVENT
DTSTART;TZID=America/Los_Angeles:20260224T180000
DTEND;TZID=America/Los_Angeles:20260224T200000
DTSTAMP:20260423T114801
CREATED:20260224T052348Z
LAST-MODIFIED:20260224T052628Z
UID:8452-1771956000-1771963200@4a2lions.org
SUMMARY:2/24 - CVLCC Souper Bowl
DESCRIPTION:CVLCC souperbowl-2-24-2026
URL:https://4a2lions.org/event/2-24-cvlcc-souper-bowl/
LOCATION:Selma Portuguese Hall\, 1245 Nebraska Ave\, Selma\, CA
CATEGORIES:Featured
END:VEVENT
BEGIN:VEVENT
DTSTART;TZID=America/Los_Angeles:20260215T070000
DTEND;TZID=America/Los_Angeles:20260215T110000
DTSTAMP:20260423T114801
CREATED:20260211T150059Z
LAST-MODIFIED:20260112T043351Z
UID:8318-1771138800-1771153200@4a2lions.org
SUMMARY:02/15/26 - Parlier Lions 61st Annual Pancake Breakfast
DESCRIPTION:Parlier Lions Club 61st Annual Pancake Breakfast \nSunday\, February 15\, 2026\, 7:00 a.m. – 11:00 a.m. \nParlier Community Center – $10/person
URL:https://4a2lions.org/event/02-15-26-parlier-lions-61st-annual-pancake-breakfast/
LOCATION:CA
END:VEVENT
BEGIN:VEVENT
DTSTART;TZID=America/Los_Angeles:20260215T070000
DTEND;TZID=America/Los_Angeles:20260215T110000
DTSTAMP:20260423T114801
CREATED:20260112T043533Z
LAST-MODIFIED:20260122T030715Z
UID:8324-1771138800-1771153200@4a2lions.org
SUMMARY:02/15/26- Parlier Lions 61st Annual Pancake Breakfast
DESCRIPTION:Parlier Lions Club 61st Annual Pancake Breakfast \nSunday\, February 15\, 2026\, 7:00 a.m..- 11:00 a.m. \nParlier Community Center
URL:https://4a2lions.org/event/02-15-26-parlier-lions-61st-pancake-breakfast/
LOCATION:CA
CATEGORIES:Featured,Fundraiser
END:VEVENT
BEGIN:VEVENT
DTSTART;TZID=America/Los_Angeles:20260214T180000
DTEND;TZID=America/Los_Angeles:20260214T230000
DTSTAMP:20260423T114801
CREATED:20260104T024348Z
LAST-MODIFIED:20260105T002114Z
UID:8282-1771092000-1771110000@4a2lions.org
SUMMARY:2/14 - Visalia Pride Lions Dancing Through the Decades
DESCRIPTION:Buy Tickets Here\nTickets: $65\nCome dressed for your favorite decade\, for Valentine’s Day\, or however you choose.\nJust come out for a great time!!!
URL:https://4a2lions.org/event/2-14-visalia-pride-lions-dancing-through-the-decades/
LOCATION:Wyndham Hotel Visalia
CATEGORIES:Featured,Fundraiser
END:VEVENT
BEGIN:VEVENT
DTSTART;TZID=America/Los_Angeles:20260214T180000
DTEND;TZID=America/Los_Angeles:20260214T220000
DTSTAMP:20260423T114801
CREATED:20260108T223812Z
LAST-MODIFIED:20260122T030909Z
UID:8306-1771092000-1771106400@4a2lions.org
SUMMARY:02/14/26 - Laton Lions Valentine's Dinner & Dance
DESCRIPTION:Laton Lions Valentine’s Dinner & Dance \nSaturday\, February 14\, 2026\, 6:00p.m. \nPrime Rib Dinner\, $50/person \n \n  \n 
URL:https://4a2lions.org/event/8306/
LOCATION:CA
CATEGORIES:Featured,Fundraiser
END:VEVENT
BEGIN:VEVENT
DTSTART;TZID=America/Los_Angeles:20260211T170000
DTEND;TZID=America/Los_Angeles:20260211T200000
DTSTAMP:20260423T114801
CREATED:20260206T063311Z
LAST-MODIFIED:20260206T063432Z
UID:8410-1770829200-1770840000@4a2lions.org
SUMMARY:2/11 - Visalia Sunset LC Pizza Fundraiser
DESCRIPTION:VSLC Fundraiser pizza 2 5 26 \n  \n 
URL:https://4a2lions.org/event/2-11-visalia-sunset-lc-pizza-fundraiser/
LOCATION:The Planing Mill\, 778 E Center St\, Visalia\, CA\, 93292\, United States
CATEGORIES:Featured,Fundraiser
END:VEVENT
BEGIN:VEVENT
DTSTART;TZID=America/Los_Angeles:20260208T120000
DTEND;TZID=America/Los_Angeles:20260208T220000
DTSTAMP:20260423T114801
CREATED:20260104T025318Z
LAST-MODIFIED:20260104T025453Z
UID:8288-1770552000-1770588000@4a2lions.org
SUMMARY:2/8 - VPLC Super Bowl for Scholarships Football Pool
DESCRIPTION:  \n$20 per Square\n$250 pay out per quarter\nAll proceeds go to the VPLC Scholarship Fund\nFootball Pool Fundraiser 2026\nVenmo to @Visaliapride-lionsclub\nZelle to Lion Cheri at 360-970-3642\nChecks mailed to 3403 W. Perez Ave\, Visalia\, CA 93291\nContact Lion Cheri @ lioncheri@gmail.com for more information
URL:https://4a2lions.org/event/2-8-vplc-super-bowl-for-scholarships-football-pool/
LOCATION:CA
CATEGORIES:Featured,Fundraiser
ORGANIZER;CN="Cheri Provancha":MAILTO:lioncheri@gmail.com
END:VEVENT
BEGIN:VEVENT
DTSTART;TZID=America/Los_Angeles:20260207T183000
DTEND;TZID=America/Los_Angeles:20260207T220000
DTSTAMP:20260423T114801
CREATED:20260108T224618Z
LAST-MODIFIED:20260122T031731Z
UID:8312-1770489000-1770501600@4a2lions.org
SUMMARY:02/07/26 - Mariposa Lions Crab Feed
DESCRIPTION:Mariposa Lions Crab Feed \nSaturday\, February 07\, 2026\, 6:30 p.m. \nMariposa County Fairgrounds\, Building A \n$80 / person
URL:https://4a2lions.org/event/02-07-26-mariposa-lions-crab-feed/
LOCATION:CA
CATEGORIES:Featured
END:VEVENT
BEGIN:VEVENT
DTSTART;TZID=America/Los_Angeles:20260207T180000
DTEND;TZID=America/Los_Angeles:20260207T220000
DTSTAMP:20260423T114801
CREATED:20260114T051735Z
LAST-MODIFIED:20260114T051905Z
UID:8337-1770487200-1770501600@4a2lions.org
SUMMARY:2/7 - Kings LC Araw Ng Mgapuso Celebration
DESCRIPTION:Celebration of the Heart and our Filipino Community\nAdult Only Event\nTickets: $40\nPurchase Tickets Here:\nHttps://filipinofiesta.eventbrite.com\nOr Purchase at Family Eye Care Lemoore\nFor more info: 559-707-0840
URL:https://4a2lions.org/event/2-7-kings-lc-araw-ng-mgapuso-celebration/
LOCATION:Lemoore Masonic Lodge\, 647 W. Bush St.\, Lemoore\, CA
CATEGORIES:Featured
END:VEVENT
BEGIN:VEVENT
DTSTART;TZID=America/Los_Angeles:20260117T173000
DTEND;TZID=America/Los_Angeles:20260117T210000
DTSTAMP:20260423T114801
CREATED:20251005T212502Z
LAST-MODIFIED:20251019T021623Z
UID:8091-1768671000-1768683600@4a2lions.org
SUMMARY:1/17/26 - Dining in the Dark 2026
DESCRIPTION:Join District 4-A2 in our annual LCIF Fundraiser with special guest\, Past International President Dr. Patti Hill. \nIndividual tickets: $75 \n2026 Blind Dinner Letter 4 Clubs v6 \nClub Table: $1000 for 8 seats. ($500 of the fee will be a donation in the name of the club) \nTickets Here
URL:https://4a2lions.org/event/1-17-26-dining-in-the-dark-2026/
LOCATION:Classic Catering At 625\, 625 4th St.\, Clovis\, CA\, 93612\, United States
CATEGORIES:Featured,Fundraiser
END:VEVENT
BEGIN:VEVENT
DTSTART;TZID=America/Los_Angeles:20251213T150000
DTEND;TZID=America/Los_Angeles:20251213T180000
DTSTAMP:20260423T114801
CREATED:20251020T050844Z
LAST-MODIFIED:20251020T051044Z
UID:8211-1765638000-1765648800@4a2lions.org
SUMMARY:12/13 - VPLC Points for Pups Army Navy Game Football Pool
DESCRIPTION:Squares are $20\nContact Lion Cheri Provancha at Lioncheri@gmail.com or 360-970-3642 for squares. \nMake checks out to Visalia Pride Lions Club or send as “friends” by Venmo to @visaliapride-lionsclub; Zelle to 360-970-3642. List CSDA Fundraiser in the memo. \nProvide your name\, phone number and email with your payment. \n  \n  \n  \nArmy Navy Game Football Pool Fundraiser 2025
URL:https://4a2lions.org/event/12-13-vplc-points-for-pups-army-navy-game-football-pool/
LOCATION:CA
CATEGORIES:Featured,Fundraiser
ORGANIZER;CN="Cheri Provancha":MAILTO:lioncheri@gmail.com
END:VEVENT
BEGIN:VEVENT
DTSTART;TZID=America/Los_Angeles:20251213T110000
DTEND;TZID=America/Los_Angeles:20251213T160000
DTSTAMP:20260423T114801
CREATED:20251112T065300Z
LAST-MODIFIED:20251112T065340Z
UID:8268-1765623600-1765641600@4a2lions.org
SUMMARY:12/13 - Kings Lions Dine to Donate at Texas Roadhouse in Visalia
DESCRIPTION:Present the flyer with the bar code to ensure 10% donation goes to Kings Lions \n \nKings Dine to Donate Flyer \nKings Dine to Donate Coupon Flyer
URL:https://4a2lions.org/event/12-13-kings-lions-dine-to-donate-at-texas-roadhouse-in-visalia/
LOCATION:Texas Roadhouse Visalia\, 4425 S. Mooney Blvd\, Visalia\, CA
CATEGORIES:Featured,Fundraiser
END:VEVENT
BEGIN:VEVENT
DTSTART;VALUE=DATE:20251213
DTEND;VALUE=DATE:20251214
DTSTAMP:20260423T114801
CREATED:20240823T162718Z
LAST-MODIFIED:20250906T220057Z
UID:7287-1765584000-1765670399@4a2lions.org
SUMMARY:12/13 - Lions Rose Parade Float Decoration Work Day
DESCRIPTION:2025 A2 Rose Float Trip RSVP \n \n 
URL:https://4a2lions.org/event/12-14-lions-rose-parade-float-decoration/
LOCATION:CA
CATEGORIES:Featured
END:VEVENT
BEGIN:VEVENT
DTSTART;TZID=America/Los_Angeles:20251206T073000
DTEND;TZID=America/Los_Angeles:20251206T113000
DTSTAMP:20260423T114801
CREATED:20251028T035448Z
LAST-MODIFIED:20251028T041409Z
UID:8223-1765006200-1765020600@4a2lions.org
SUMMARY:12/6 - Hanford LC Breakfast with Santa
DESCRIPTION:Vision Screening will be available.\nTickets:\nAdults & kids 11 and up: $13\nKids 4-10 yrs: $7\nKids under 3: Free
URL:https://4a2lions.org/event/12-6-hanford-lc-breakfast-with-santa/
LOCATION:Hanford Civic Auditorium\, 400 N Douty St\, Hanford\, CA\, 93230\, United States
CATEGORIES:Featured
END:VEVENT
BEGIN:VEVENT
DTSTART;TZID=America/Los_Angeles:20251202T080000
DTEND;TZID=America/Los_Angeles:20251202T170000
DTSTAMP:20260423T114801
CREATED:20251029T045045Z
LAST-MODIFIED:20251029T045352Z
UID:8248-1764662400-1764694800@4a2lions.org
SUMMARY:12/2-North Fresno LC Pointsetta Sale
DESCRIPTION:
URL:https://4a2lions.org/event/12-2-north-fresno-lc-pointsetta-sale/
LOCATION:CA
CATEGORIES:Featured,Fundraiser
END:VEVENT
BEGIN:VEVENT
DTSTART;TZID=America/Los_Angeles:20251118T180000
DTEND;TZID=America/Los_Angeles:20251118T200000
DTSTAMP:20260423T114802
CREATED:20251108T230619Z
LAST-MODIFIED:20251108T230705Z
UID:8264-1763488800-1763496000@4a2lions.org
SUMMARY:11/18 - CVLLC Veterans Appreciation Dinner
DESCRIPTION:
URL:https://4a2lions.org/event/11-18-cvllc-veterans-appreciation-dinner/
LOCATION:Selma Portuguese Hall\, 1245 Nebraska Ave\, Selma\, CA
CATEGORIES:Featured
END:VEVENT
BEGIN:VEVENT
DTSTART;TZID=America/Los_Angeles:20251114T180000
DTEND;TZID=America/Los_Angeles:20251114T200000
DTSTAMP:20260423T114802
CREATED:20251017T051334Z
LAST-MODIFIED:20251017T052001Z
UID:8138-1763143200-1763150400@4a2lions.org
SUMMARY:11/14 - Reedley Brush & Boogie Paint Night
DESCRIPTION:Tickets: $40\nDoors open at 5:30 pm\nContact ReeleyLions@gmail.com for tickets or visit the Reedley Chamber of Commerce.\nAlcohol Free Event\n 
URL:https://4a2lions.org/event/11-14-reedley-brush-boogie-paint-night/
LOCATION:Lincoln Elementary\, 374 E. North Ave\, Reedley
CATEGORIES:Featured,Fundraiser
END:VEVENT
BEGIN:VEVENT
DTSTART;TZID=America/Los_Angeles:20251114T180000
DTEND;TZID=America/Los_Angeles:20251114T200000
DTSTAMP:20260423T114802
CREATED:20251009T231323Z
LAST-MODIFIED:20251009T231323Z
UID:8127-1763143200-1763150400@4a2lions.org
SUMMARY:11/14/25 - Reedley Brush & Boogie
DESCRIPTION:Reedley Brush & Boogie Fundraiser\nAdmission $40.00\, includes all art supplies\, drinks\, snacks\, musical fun! (Alcohol free event) \nLimited Seating Available. Email: Reedleylions@gmail.com
URL:https://4a2lions.org/event/11-14-25-reedley-brush-boogie/
LOCATION:CA
END:VEVENT
BEGIN:VEVENT
DTSTART;TZID=America/Los_Angeles:20251112T183000
DTEND;TZID=America/Los_Angeles:20251112T203000
DTSTAMP:20260423T114802
CREATED:20251028T040115Z
LAST-MODIFIED:20251028T040229Z
UID:8227-1762972200-1762979400@4a2lions.org
SUMMARY:11/12 - CLF 10th Anniversary Celebration
DESCRIPTION:Hosted by D4-L2 \n$65 in advance
URL:https://4a2lions.org/event/11-12-clf-10th-anniversary-celebration/
LOCATION:Steven’s Steakhouse\, 5332 Stevens Place\, Commerce\, CA\, 90040
CATEGORIES:Featured,Fundraiser
END:VEVENT
BEGIN:VEVENT
DTSTART;TZID=America/Los_Angeles:20251108T150000
DTEND;TZID=America/Los_Angeles:20251108T190000
DTSTAMP:20260423T114802
CREATED:20240814T153514Z
LAST-MODIFIED:20251106T175914Z
UID:7259-1762614000-1762628400@4a2lions.org
SUMMARY:11/8 - Caruthers Annual Harvest Social
DESCRIPTION:Saturday November 8th 2025 \nCaruthers Lions Club and Caruthers Fair Board\nPresent\nThe Fifteenth Annual Harvest Social\nFrom 3:00 – 7:00 pm\nCaruthers Fairgrounds (In the Big Red Barn)\n$40 Advanced Purchase – $45 Day Of Event\nMicros Beers\, Fine Wine\, Hor D’Oeuvres and Great Live Music\n21 and Over Only! Please no children.\nCall Napa for tickets at 559-864-9454 or Clevengers at 559-864-3019
URL:https://4a2lions.org/event/11-9-caruthers-annual-harvest-social/
LOCATION:Caruthers Fairgrounds\, Caruthers
CATEGORIES:Featured,Fundraiser
END:VEVENT
BEGIN:VEVENT
DTSTART;TZID=America/Los_Angeles:20251108T080000
DTEND;TZID=America/Los_Angeles:20251108T150000
DTSTAMP:20260423T114802
CREATED:20250629T152720Z
LAST-MODIFIED:20251019T013110Z
UID:7871-1762588800-1762614000@4a2lions.org
SUMMARY:11/8 - District 4-A2 Q2 Meeting
DESCRIPTION:Register Here\nTheme – Military \n \n25-26 2nd District 4-A2 Mtg Flyer_251013_165005
URL:https://4a2lions.org/event/11-8-district-4-a2-q2-meeting/
LOCATION:6345 E. Nares Avenue Laton\, Ca. 93242
CATEGORIES:Featured
END:VEVENT
BEGIN:VEVENT
DTSTART;TZID=America/Los_Angeles:20251108T080000
DTEND;TZID=America/Los_Angeles:20251108T110000
DTSTAMP:20260423T114802
CREATED:20251029T051157Z
LAST-MODIFIED:20251029T051417Z
UID:8254-1762588800-1762599600@4a2lions.org
SUMMARY:11/8-Reedley LC Veterans Day Pancake Breakfast
DESCRIPTION:Join us for a Veterans Day pancake breakfast. Vets eat free and everyone else $8. All proceeds go to Central Valley Honor Flight. See you Saturday November 8th 8am-11am. \n \n  \n  \n 
URL:https://4a2lions.org/event/11-8-reedley-lc-veterans-day-pancake-breakfast/
LOCATION:American Legion #36\, 1128 E Street\, Reedley\, CA
CATEGORIES:Featured
END:VEVENT
BEGIN:VEVENT
DTSTART;TZID=America/Los_Angeles:20251107T180000
DTEND;TZID=America/Los_Angeles:20251107T220000
DTSTAMP:20260423T114802
CREATED:20251006T030237Z
LAST-MODIFIED:20251006T030644Z
UID:8106-1762538400-1762552800@4a2lions.org
SUMMARY:11/7 - Buttonwillow 21st Annual Texas Hold 'Em Tourney
DESCRIPTION:BUTTONWILLOW 21ST ANNUAL TEXAS HOLD’EM\n$125 Early Registration; $150 at the door.
URL:https://4a2lions.org/event/11-7-buttonwillow-21st-annual-texas-hold-em-tourny/
LOCATION:Luigi’s\, 725 E. 19th St\, Bakersfield\, CA\, United States
CATEGORIES:Featured,Fundraiser
END:VEVENT
BEGIN:VEVENT
DTSTART;TZID=America/Los_Angeles:20251027T163000
DTEND;TZID=America/Los_Angeles:20251027T183000
DTSTAMP:20260423T114802
CREATED:20251005T213810Z
LAST-MODIFIED:20251005T213945Z
UID:8100-1761582600-1761589800@4a2lions.org
SUMMARY:10/27 - Selma CVLLC Chili Verde Dinner
DESCRIPTION:Pick up Only between 4:30 and 6:30 pm\n$15 per meal\n2025 Flyer Portuguese Hall.docx
URL:https://4a2lions.org/event/10-27-selma-cvllc-chili-verde-dinner/
LOCATION:Selma Portuguese Hall\, 1245 Nebraska Ave\, Selma\, CA
CATEGORIES:Featured,Fundraiser
END:VEVENT
BEGIN:VEVENT
DTSTART;TZID=America/Los_Angeles:20251027T080000
DTEND;TZID=America/Los_Angeles:20251027T170000
DTSTAMP:20260423T114802
CREATED:20251028T040932Z
LAST-MODIFIED:20251028T040956Z
UID:8234-1761552000-1761584400@4a2lions.org
SUMMARY:11/15 - Tehachapi LC 75th Anniversary
DESCRIPTION:Tickets: $40\nPayment with Reservation Required\n  \n  \n  \n  \n  \n  \nTehachapi 75th Anniversary RSVP Response Info \nTehachapi 75th Anniversary Final South St 10-27-25 II Tehachapi 75th Anniversary RSVP Response Info
URL:https://4a2lions.org/event/11-15-tehachapi-lc-75th-anniversary/
LOCATION:Historic Train Depot\, 101 Tehachapi Blvd\, Tahachapi\, CA
END:VEVENT
BEGIN:VEVENT
DTSTART;TZID=America/Los_Angeles:20251026T100000
DTEND;TZID=America/Los_Angeles:20251026T140000
DTSTAMP:20260423T114802
CREATED:20251004T212959Z
LAST-MODIFIED:20251004T212959Z
UID:8081-1761472800-1761487200@4a2lions.org
SUMMARY:10/26/25 - Richgrove Car Show
DESCRIPTION:Richgrove 1st Annual Car Show\nContact Matt Ince for car entries
URL:https://4a2lions.org/event/10-26-25-richgrove-car-show/
LOCATION:Richgrove Memorial Hall\, 607 Richgrove Dr\, Richgrove\, CA\, 93261\, United States
CATEGORIES:Featured
END:VEVENT
BEGIN:VEVENT
DTSTART;TZID=America/Los_Angeles:20251025T170000
DTEND;TZID=America/Los_Angeles:20251025T220000
DTSTAMP:20260423T114802
CREATED:20251007T160407Z
LAST-MODIFIED:20251007T161508Z
UID:8118-1761411600-1761429600@4a2lions.org
SUMMARY:10/25/25 - Richgrove Lions Halloween Party
DESCRIPTION:Richgrove Lions Halloween Costume Party\nSaturday\, October 25th from 5:00 p.m. – 10:00 p.m.\nEarly bird sign up are $15/person\, $25/couple until October 12th\nOctober 13th until day of event – $20/person\, $35/couple \nPrize for best costume overall!! \n 
URL:https://4a2lions.org/event/richgrove-lions-halloween-party/
LOCATION:Richgrove Memorial Hall\, 607 Richgrove Dr\, Richgrove\, CA\, 93261\, United States
END:VEVENT
BEGIN:VEVENT
DTSTART;TZID=America/Los_Angeles:20251018T080000
DTEND;TZID=America/Los_Angeles:20251018T170000
DTSTAMP:20260423T114802
CREATED:20250906T233801Z
LAST-MODIFIED:20250906T233810Z
UID:8063-1760774400-1760806800@4a2lions.org
SUMMARY:10/18 - Fowler Band Review
DESCRIPTION:
URL:https://4a2lions.org/event/10-18-fowler-band-review/
LOCATION:Panzak Park\, Fowler\, CA\, 93625
CATEGORIES:Featured
END:VEVENT
BEGIN:VEVENT
DTSTART;TZID=America/Los_Angeles:20251011T173000
DTEND;TZID=America/Los_Angeles:20251011T220000
DTSTAMP:20260423T114802
CREATED:20250906T234120Z
LAST-MODIFIED:20250906T234244Z
UID:8067-1760203800-1760220000@4a2lions.org
SUMMARY:10/12 - Cutler Orosi LC 39th Annual Classic Car Nite
DESCRIPTION:
URL:https://4a2lions.org/event/10-12-cutler-orosi-lc-39th-annual-classic-car-nite/
LOCATION:Orosi Memorial Hall\, 41465 Rd 128\, Orosi\, CA\, 93647
CATEGORIES:Featured
END:VEVENT
BEGIN:VEVENT
DTSTART;TZID=America/Los_Angeles:20251004T110000
DTEND;TZID=America/Los_Angeles:20251004T150000
DTSTAMP:20260423T114802
CREATED:20250629T152539Z
LAST-MODIFIED:20250906T232345Z
UID:7868-1759575600-1759590000@4a2lions.org
SUMMARY:10/4 - District 4-A2 New Member Celebration
DESCRIPTION:Register Here
URL:https://4a2lions.org/event/10-4-district-4-a2-new-member-celebration/
LOCATION:Richgrove Memorial Hall\, 607 Richgrove Dr\, Richgrove\, CA\, 93261\, United States
CATEGORIES:Featured
END:VEVENT
END:VCALENDAR