BEGIN:VCALENDAR
VERSION:2.0
PRODID:-//District 4-A2 Lions - ECPv6.15.20//NONSGML v1.0//EN
CALSCALE:GREGORIAN
METHOD:PUBLISH
X-WR-CALNAME:District 4-A2 Lions
X-ORIGINAL-URL:https://4a2lions.org
X-WR-CALDESC:Events for District 4-A2 Lions
REFRESH-INTERVAL;VALUE=DURATION:PT1H
X-Robots-Tag:noindex
X-PUBLISHED-TTL:PT1H
BEGIN:VTIMEZONE
TZID:America/Los_Angeles
BEGIN:DAYLIGHT
TZOFFSETFROM:-0800
TZOFFSETTO:-0700
TZNAME:PDT
DTSTART:20230312T100000
END:DAYLIGHT
BEGIN:STANDARD
TZOFFSETFROM:-0700
TZOFFSETTO:-0800
TZNAME:PST
DTSTART:20231105T090000
END:STANDARD
BEGIN:DAYLIGHT
TZOFFSETFROM:-0800
TZOFFSETTO:-0700
TZNAME:PDT
DTSTART:20240310T100000
END:DAYLIGHT
BEGIN:STANDARD
TZOFFSETFROM:-0700
TZOFFSETTO:-0800
TZNAME:PST
DTSTART:20241103T090000
END:STANDARD
BEGIN:DAYLIGHT
TZOFFSETFROM:-0800
TZOFFSETTO:-0700
TZNAME:PDT
DTSTART:20250309T100000
END:DAYLIGHT
BEGIN:STANDARD
TZOFFSETFROM:-0700
TZOFFSETTO:-0800
TZNAME:PST
DTSTART:20251102T090000
END:STANDARD
END:VTIMEZONE
BEGIN:VEVENT
DTSTART;TZID=America/Los_Angeles:20240801T080000
DTEND;TZID=America/Los_Angeles:20240831T170000
DTSTAMP:20260423T102118
CREATED:20240706T230205Z
LAST-MODIFIED:20240717T201004Z
UID:6716-1722499200-1725123600@4a2lions.org
SUMMARY:AUGUST IMPORTANT DATES
DESCRIPTION:LCIF New Trustee Orientation (Oak Brook\, IL\, USA or Virtual)\nLCIF Board of Trustees Meeting\nLeo Club Excellence Award applications due\nClub Service Chairperson Kindness Matters Service Award\nnominations due to the District GST Coordinator \nAug 3 – 1st Quarter District Meeting\, Western Region\nAug 9\, 1991 – Bakersfield Sports LC Charter\nAug 12 – International Youth Day\nAug 15 – Leo Club Program Advisory Panel nominations due\nAugust 15 – 2VDG Training\, Visalia\, CA\nAugust 16 – 18 – Organizational Council of Governors\, Dublin\, CA\nAug 19 or 26 – Lions Leadership Forum City of Hope\nAug 24\, 1964 – West Coast Indian Cyber LC Charter\nAug 31\, 1949 – Lemoore LC Charter\nAug 31 – Deadline for the Club and District Team Excellence Awards\nAug 31 – Deadline for Presidential Zone and Region Chairperson Awards\nAug 31 – Deadline for Kindness Matters award submissions to LCI
URL:https://4a2lions.org/event/august-important-dates/
CATEGORIES:IMPORTANT DATES
END:VEVENT
BEGIN:VEVENT
DTSTART;TZID=America/Los_Angeles:20240701T080000
DTEND;TZID=America/Los_Angeles:20240731T170000
DTSTAMP:20260423T102118
CREATED:20240706T223720Z
LAST-MODIFIED:20240717T210957Z
UID:6691-1719820800-1722445200@4a2lions.org
SUMMARY:JULY IMPORTANT DATES
DESCRIPTION:MD4 may apply for Leo Leadership Grant Program \nJul 6\, 1948 – Ridgecrest LC Charter\nJul 8\, 1926 – Bakersfield Host LC Charter\nJul 13 – District Cabinet Installation\, Visalia\nJul 24\, 1947 – Ivanhoe LC Charter
URL:https://4a2lions.org/event/july-important-dates/
CATEGORIES:IMPORTANT DATES
END:VEVENT
BEGIN:VEVENT
DTSTART;TZID=America/Los_Angeles:20240601T080000
DTEND;TZID=America/Los_Angeles:20240630T170000
DTSTAMP:20260423T102118
CREATED:20240717T203939Z
LAST-MODIFIED:20240717T204244Z
UID:6915-1717228800-1719766800@4a2lions.org
SUMMARY:JUNE IMPORTANT DATES
DESCRIPTION:Pride Month\nInternational Board of Directors Meeting \nJune 1 – Helen Keller Day\nJune 7 – Lions Club International Birthday\nJune 8\, 1950 – Tehachapi LC Charter\nJune 15 – MD4 Student Speaker Contest\nJune 15 – Deadline for submission of pre-certified delegate forms for voting at the International Convention\nJune 15\, 1945 – Dinuba LC Charter\nJune 17\, 2004 – Selma Central Valley LC Charter\nJune 21-25 – LCI Convention\, Melbourne\, Australia\nJune 26-Jul 1 – Youth Exchange Camp at Teresita Pines\nJune 27\, 2013 – Fresno Pride LC Charter\nJune 30\, 1926 – Visalia Host LC Charter
URL:https://4a2lions.org/event/june-important-dates/
CATEGORIES:IMPORTANT DATES
END:VEVENT
END:VCALENDAR