BEGIN:VCALENDAR
VERSION:2.0
PRODID:-//District 4-A2 Lions - ECPv6.15.20//NONSGML v1.0//EN
CALSCALE:GREGORIAN
METHOD:PUBLISH
X-WR-CALNAME:District 4-A2 Lions
X-ORIGINAL-URL:https://4a2lions.org
X-WR-CALDESC:Events for District 4-A2 Lions
REFRESH-INTERVAL;VALUE=DURATION:PT1H
X-Robots-Tag:noindex
X-PUBLISHED-TTL:PT1H
BEGIN:VTIMEZONE
TZID:America/Los_Angeles
BEGIN:DAYLIGHT
TZOFFSETFROM:-0800
TZOFFSETTO:-0700
TZNAME:PDT
DTSTART:20240310T100000
END:DAYLIGHT
BEGIN:STANDARD
TZOFFSETFROM:-0700
TZOFFSETTO:-0800
TZNAME:PST
DTSTART:20241103T090000
END:STANDARD
BEGIN:DAYLIGHT
TZOFFSETFROM:-0800
TZOFFSETTO:-0700
TZNAME:PDT
DTSTART:20250309T100000
END:DAYLIGHT
BEGIN:STANDARD
TZOFFSETFROM:-0700
TZOFFSETTO:-0800
TZNAME:PST
DTSTART:20251102T090000
END:STANDARD
BEGIN:DAYLIGHT
TZOFFSETFROM:-0800
TZOFFSETTO:-0700
TZNAME:PDT
DTSTART:20260308T100000
END:DAYLIGHT
BEGIN:STANDARD
TZOFFSETFROM:-0700
TZOFFSETTO:-0800
TZNAME:PST
DTSTART:20261101T090000
END:STANDARD
END:VTIMEZONE
BEGIN:VEVENT
DTSTART;TZID=America/Los_Angeles:20250118T180000
DTEND;TZID=America/Los_Angeles:20250118T210000
DTSTAMP:20260422T045336
CREATED:20240717T192407Z
LAST-MODIFIED:20241014T232940Z
UID:6856-1737223200-1737234000@4a2lions.org
SUMMARY:1/18 - 3rd Annual Dining In The Dark Clovis
DESCRIPTION:3rd Annual Dining In The Dark\nJoin us for an evening of blindfolded dining\, socialising and FUNDRAISING\nSaturday\, January 18\, 2025\n\n$75 per seat.  $1000 for a Lions Club table\n$500 going directly to LCIF in the club’s name.\nThis is an LCIF FUNDRAISER\nSpecial Guest Presenter\nPast International President Brian Sheehan\n\n\nSaturday\, January 18\, 2025\nClassic Catering at 625\n625 4th St. Clovis\, CA\nLimited Seating Available\nBlind Dinner Letter 4 Clubs \nShare this entryShare on FacebookShare on TwitterShare on Google+Share on PinterestShare on LinkedinShare on TumblrShare on VkShare on RedditShare by Mail
URL:https://4a2lions.org/event/3rd-annual-dining-in-the-dark-special-guest-brian-sheehan/
LOCATION:Classic Catering At 625\, 625 4th St.\, Clovis\, CA\, 93612\, United States
CATEGORIES:Charity,Featured,Fundraiser
ORGANIZER;CN="Tony Reyes Sr":MAILTO:vawave@aol.com
END:VEVENT
END:VCALENDAR