BEGIN:VCALENDAR
VERSION:2.0
PRODID:-//District 4-A2 Lions - ECPv6.15.20//NONSGML v1.0//EN
CALSCALE:GREGORIAN
METHOD:PUBLISH
X-ORIGINAL-URL:https://4a2lions.org
X-WR-CALDESC:Events for District 4-A2 Lions
REFRESH-INTERVAL;VALUE=DURATION:PT1H
X-Robots-Tag:noindex
X-PUBLISHED-TTL:PT1H
BEGIN:VTIMEZONE
TZID:America/Los_Angeles
BEGIN:DAYLIGHT
TZOFFSETFROM:-0800
TZOFFSETTO:-0700
TZNAME:PDT
DTSTART:20250309T100000
END:DAYLIGHT
BEGIN:STANDARD
TZOFFSETFROM:-0700
TZOFFSETTO:-0800
TZNAME:PST
DTSTART:20251102T090000
END:STANDARD
BEGIN:DAYLIGHT
TZOFFSETFROM:-0800
TZOFFSETTO:-0700
TZNAME:PDT
DTSTART:20260308T100000
END:DAYLIGHT
BEGIN:STANDARD
TZOFFSETFROM:-0700
TZOFFSETTO:-0800
TZNAME:PST
DTSTART:20261101T090000
END:STANDARD
BEGIN:DAYLIGHT
TZOFFSETFROM:-0800
TZOFFSETTO:-0700
TZNAME:PDT
DTSTART:20270314T100000
END:DAYLIGHT
BEGIN:STANDARD
TZOFFSETFROM:-0700
TZOFFSETTO:-0800
TZNAME:PST
DTSTART:20271107T090000
END:STANDARD
END:VTIMEZONE
BEGIN:VEVENT
DTSTART;VALUE=DATE:20260509
DTEND;VALUE=DATE:20260511
DTSTAMP:20260423T102351
CREATED:20260122T034530Z
LAST-MODIFIED:20260122T034537Z
UID:8351-1778284800-1778457599@4a2lions.org
SUMMARY:May 9-10 - Woodlake Lions Rodeo
DESCRIPTION:Woodlake Lions Rodeo \nSaturday\, May 9th and Sunday\, May 10th \nTickets may be purchased on line at \nwww.woodlakelionsclub.com \n$20.00 (plus processing fee) Adult General Admission \n$15.00 (plus processing fee) Child (4 to 12) 3 and under do not require an admission ticket. \nWeekend passes also available. Check out website for more details
URL:https://4a2lions.org/event/may-9-10-woodlake-lions-rodeo/
LOCATION:CA
CATEGORIES:Featured,Fundraiser
END:VEVENT
END:VCALENDAR