BEGIN:VCALENDAR
VERSION:2.0
PRODID:-//District 4-A2 Lions - ECPv6.15.20//NONSGML v1.0//EN
CALSCALE:GREGORIAN
METHOD:PUBLISH
X-ORIGINAL-URL:https://4a2lions.org
X-WR-CALDESC:Events for District 4-A2 Lions
REFRESH-INTERVAL;VALUE=DURATION:PT1H
X-Robots-Tag:noindex
X-PUBLISHED-TTL:PT1H
BEGIN:VTIMEZONE
TZID:America/Los_Angeles
BEGIN:DAYLIGHT
TZOFFSETFROM:-0800
TZOFFSETTO:-0700
TZNAME:PDT
DTSTART:20250309T100000
END:DAYLIGHT
BEGIN:STANDARD
TZOFFSETFROM:-0700
TZOFFSETTO:-0800
TZNAME:PST
DTSTART:20251102T090000
END:STANDARD
BEGIN:DAYLIGHT
TZOFFSETFROM:-0800
TZOFFSETTO:-0700
TZNAME:PDT
DTSTART:20260308T100000
END:DAYLIGHT
BEGIN:STANDARD
TZOFFSETFROM:-0700
TZOFFSETTO:-0800
TZNAME:PST
DTSTART:20261101T090000
END:STANDARD
BEGIN:DAYLIGHT
TZOFFSETFROM:-0800
TZOFFSETTO:-0700
TZNAME:PDT
DTSTART:20270314T100000
END:DAYLIGHT
BEGIN:STANDARD
TZOFFSETFROM:-0700
TZOFFSETTO:-0800
TZNAME:PST
DTSTART:20271107T090000
END:STANDARD
END:VTIMEZONE
BEGIN:VEVENT
DTSTART;VALUE=DATE:20260410
DTEND;VALUE=DATE:20260413
DTSTAMP:20260423T085933
CREATED:20260122T035824Z
LAST-MODIFIED:20260122T035824Z
UID:8355-1775779200-1776038399@4a2lions.org
SUMMARY:04/10 - 04/12/26 - Laton Lions 62nd Annual Rodeo
DESCRIPTION:Laton Lions 62nd Annual Rodeo \nFriday\, April 10th – Sunday\, April 12th \n$20.00 Admission \nTickets can be used for Rodeo or dance. \nKids 12 and under\, free w/adult.
URL:https://4a2lions.org/event/04-10-04-12-26-laton-lions-62nd-annual-rodeo/
LOCATION:CA
CATEGORIES:Featured
END:VEVENT
BEGIN:VEVENT
DTSTART;TZID=America/Los_Angeles:20260410T100000
DTEND;TZID=America/Los_Angeles:20260410T170000
DTSTAMP:20260423T085933
CREATED:20260130T060221Z
LAST-MODIFIED:20260130T060221Z
UID:8366-1775815200-1775840400@4a2lions.org
SUMMARY:4/10 - Visalia Breakfast Lions Forcum/Mackey Lions Golf Tournament
DESCRIPTION:6 Person Scramble Format \nEach team must have a Big Dog Sponsor ($300) plus $200 per golfer. \nReserve spot by March 12th; Send in team handicap by March 27th to sandra@forcummackey.com \nMany side contests. \nMake checks payable to Visalia Breakfast Lions and mail to 15695 Jasmine Ave\, Ivanhoe\, CA 93235
URL:https://4a2lions.org/event/4-10-visalia-breakfast-lions-forcum-mackey-lions-golf-tournament/
LOCATION:Valley Oak Golf Course\, 1800 S Plaza Street\, Visalia\, CA\, 93277\, United States
CATEGORIES:Featured,Fundraiser
END:VEVENT
END:VCALENDAR