BEGIN:VCALENDAR
VERSION:2.0
PRODID:-//District 4-A2 Lions - ECPv6.15.20//NONSGML v1.0//EN
CALSCALE:GREGORIAN
METHOD:PUBLISH
X-ORIGINAL-URL:https://4a2lions.org
X-WR-CALDESC:Events for District 4-A2 Lions
REFRESH-INTERVAL;VALUE=DURATION:PT1H
X-Robots-Tag:noindex
X-PUBLISHED-TTL:PT1H
BEGIN:VTIMEZONE
TZID:America/Los_Angeles
BEGIN:DAYLIGHT
TZOFFSETFROM:-0800
TZOFFSETTO:-0700
TZNAME:PDT
DTSTART:20250309T100000
END:DAYLIGHT
BEGIN:STANDARD
TZOFFSETFROM:-0700
TZOFFSETTO:-0800
TZNAME:PST
DTSTART:20251102T090000
END:STANDARD
BEGIN:DAYLIGHT
TZOFFSETFROM:-0800
TZOFFSETTO:-0700
TZNAME:PDT
DTSTART:20260308T100000
END:DAYLIGHT
BEGIN:STANDARD
TZOFFSETFROM:-0700
TZOFFSETTO:-0800
TZNAME:PST
DTSTART:20261101T090000
END:STANDARD
BEGIN:DAYLIGHT
TZOFFSETFROM:-0800
TZOFFSETTO:-0700
TZNAME:PDT
DTSTART:20270314T100000
END:DAYLIGHT
BEGIN:STANDARD
TZOFFSETFROM:-0700
TZOFFSETTO:-0800
TZNAME:PST
DTSTART:20271107T090000
END:STANDARD
END:VTIMEZONE
BEGIN:VEVENT
DTSTART;TZID=America/Los_Angeles:20260307T070000
DTEND;TZID=America/Los_Angeles:20260307T120000
DTSTAMP:20260423T102247
CREATED:20260112T052831Z
LAST-MODIFIED:20260114T050004Z
UID:8330-1772866800-1772884800@4a2lions.org
SUMMARY:3/7 - Reedley 36th Annual Blossom Bike Ride
DESCRIPTION:  \nRide includes lunch\nVisit Blossombikeride.com to register\nSponsorship Opportunities Available. $250 donation for your logo on the shirt and 1 free entry. Sponsorships due no later than 2/15/26
URL:https://4a2lions.org/event/3-7-parlier-36th-annual-blossom-bike-ride/
LOCATION:Reedley College\, 995 N Reed Ave\, Reedley\, CA\, United States
CATEGORIES:Featured,Fundraiser
END:VEVENT
END:VCALENDAR