BEGIN:VCALENDAR
VERSION:2.0
PRODID:-//District 4-A2 Lions - ECPv6.15.20//NONSGML v1.0//EN
CALSCALE:GREGORIAN
METHOD:PUBLISH
X-WR-CALNAME:District 4-A2 Lions
X-ORIGINAL-URL:https://4a2lions.org
X-WR-CALDESC:Events for District 4-A2 Lions
REFRESH-INTERVAL;VALUE=DURATION:PT1H
X-Robots-Tag:noindex
X-PUBLISHED-TTL:PT1H
BEGIN:VTIMEZONE
TZID:America/Los_Angeles
BEGIN:DAYLIGHT
TZOFFSETFROM:-0800
TZOFFSETTO:-0700
TZNAME:PDT
DTSTART:20250309T100000
END:DAYLIGHT
BEGIN:STANDARD
TZOFFSETFROM:-0700
TZOFFSETTO:-0800
TZNAME:PST
DTSTART:20251102T090000
END:STANDARD
BEGIN:DAYLIGHT
TZOFFSETFROM:-0800
TZOFFSETTO:-0700
TZNAME:PDT
DTSTART:20260308T100000
END:DAYLIGHT
BEGIN:STANDARD
TZOFFSETFROM:-0700
TZOFFSETTO:-0800
TZNAME:PST
DTSTART:20261101T090000
END:STANDARD
BEGIN:DAYLIGHT
TZOFFSETFROM:-0800
TZOFFSETTO:-0700
TZNAME:PDT
DTSTART:20270314T100000
END:DAYLIGHT
BEGIN:STANDARD
TZOFFSETFROM:-0700
TZOFFSETTO:-0800
TZNAME:PST
DTSTART:20271107T090000
END:STANDARD
END:VTIMEZONE
BEGIN:VEVENT
DTSTART;TZID=America/Los_Angeles:20260208T120000
DTEND;TZID=America/Los_Angeles:20260208T220000
DTSTAMP:20260423T113444
CREATED:20260104T025318Z
LAST-MODIFIED:20260104T025453Z
UID:8288-1770552000-1770588000@4a2lions.org
SUMMARY:2/8 - VPLC Super Bowl for Scholarships Football Pool
DESCRIPTION:  \n$20 per Square\n$250 pay out per quarter\nAll proceeds go to the VPLC Scholarship Fund\nFootball Pool Fundraiser 2026\nVenmo to @Visaliapride-lionsclub\nZelle to Lion Cheri at 360-970-3642\nChecks mailed to 3403 W. Perez Ave\, Visalia\, CA 93291\nContact Lion Cheri @ lioncheri@gmail.com for more information
URL:https://4a2lions.org/event/2-8-vplc-super-bowl-for-scholarships-football-pool/
LOCATION:CA
CATEGORIES:Featured,Fundraiser
ORGANIZER;CN="Cheri Provancha":MAILTO:lioncheri@gmail.com
END:VEVENT
END:VCALENDAR